BEGIN:VCALENDAR
BEGIN:VEVENT
SUMMARY:Label Night | Timedance: Batu\, Darwin\, i-sha [nycnoise]
DTSTART:20251206T030000Z
DTEND:20251206T040000Z
UID:8a1bda2d-42c1-48e4-ad25-af8f1e102d46
CREATED:20260425T183931Z
DESCRIPTION:
LOCATION:nowadays (56-06 cooper ave\, ridgewood)
END:VEVENT
END:VCALENDAR
