BEGIN:VCALENDAR
BEGIN:VEVENT
SUMMARY:Honey Trap: Amelia Holt\, Budino\, Ron Like Hell\, Second Contact 
 b2b 98dots [nycnoise]
DTSTART:20251212T010000Z
DTEND:20251212T020000Z
UID:46261813-9ab5-431b-9690-ddddec151b3d
CREATED:20260425T184114Z
DESCRIPTION:
LOCATION:nowadays (56-06 cooper ave\, ridgewood)
END:VEVENT
END:VCALENDAR
