BEGIN:VCALENDAR
BEGIN:VEVENT
SUMMARY:Residency Night: DJ Python invites Coki & Laurel Halo [nycnoise]
DTSTART:20251220T030000Z
DTEND:20251220T040000Z
UID:b5ae0930-e26c-48a8-b56f-e89f24907a0c
CREATED:20260425T183830Z
DESCRIPTION:
LOCATION:nowadays (56-06 cooper ave\, ridgewood)
END:VEVENT
END:VCALENDAR
