BEGIN:VCALENDAR
BEGIN:VEVENT
SUMMARY:Residency Night: Donis invites Joe Claussell [nycnoise]
DTSTART:20251227T030000Z
DTEND:20251227T040000Z
UID:2e6ec6d6-ea91-49b1-b49e-49ef9122bd47
CREATED:20260425T184107Z
DESCRIPTION:
LOCATION:nowadays (56-06 cooper ave\, ridgewood)
END:VEVENT
END:VCALENDAR
