BEGIN:VCALENDAR
BEGIN:VEVENT
SUMMARY:livwutang All Night [nycnoise]
DTSTART:20251228T030000Z
DTEND:20251228T040000Z
UID:7f1e436a-e7aa-4226-b3be-0dc26ea2fea0
CREATED:20260425T183930Z
DESCRIPTION:
LOCATION:nowadays (56-06 cooper ave\, ridgewood)
END:VEVENT
END:VCALENDAR
