BEGIN:VCALENDAR
BEGIN:VEVENT
SUMMARY:8th Anniversary Nonstop: DjRUM\, Eamon Harkin\, Loidis\, mad miran
 \, Vladimir Ivkovic + more [nycnoise]
DTSTART:20251207T050100Z
DTEND:20251207T060100Z
UID:f437e6af-cd29-423b-aa71-28b9a01be74e
CREATED:20260425T183932Z
DESCRIPTION:click thru for rsvp discount info
LOCATION:nowadays (56-06 cooper ave\, ridgewood)
END:VEVENT
END:VCALENDAR
