BEGIN:VCALENDAR
BEGIN:VEVENT
SUMMARY:Nonstop: 2Lanes\, Ayesha\, Bambounou\, Cora\, Josh Caffé\, Kim An
 n Foxman\, Maara\, Mor Elian\, SAM-E [nycnoise]
DTSTART:20251214T030000Z
DTEND:20251214T040000Z
UID:faad66c0-ed36-4e02-90d4-ef323a0852db
CREATED:20260425T183931Z
DESCRIPTION:click thru for rsvp discount info
LOCATION:nowadays (56-06 cooper ave\, ridgewood)
END:VEVENT
END:VCALENDAR
