BEGIN:VCALENDAR
BEGIN:VEVENT
SUMMARY:Nonstop: 2Lanes\, Ayesha\, Bambounou\, Cora\, Josh Caffé\, Kim An
 n Foxman\, Maara\, Mor Elian\, SAM-E [nycnoise]
DTSTART:20251214T050100Z
DTEND:20251214T060100Z
UID:a0731718-9a88-4daa-9687-ad83afd7563c
CREATED:20260425T183829Z
DESCRIPTION:click thru for rsvp discount info
LOCATION:nowadays (56-06 cooper ave\, ridgewood)
END:VEVENT
END:VCALENDAR
