BEGIN:VCALENDAR
BEGIN:VEVENT
SUMMARY:$75 NYE [nycnoise]
DTSTART:20260101T030000Z
DTEND:20260101T040000Z
UID:54b193e8-8554-4bf2-9fa5-028a02869104
CREATED:20260425T183931Z
DESCRIPTION:Nonstop New Years: Analog Soul\, Aurora Halal\, Avalon Emerson
 \, Conducta\, Hotwaxx Hale + more
LOCATION:nowadays (56-06 cooper ave\, ridgewood)
END:VEVENT
END:VCALENDAR
