BEGIN:VCALENDAR
BEGIN:VEVENT
SUMMARY:~$70 NYE [nycnoise]
DTSTART:20260101T050100Z
DTEND:20260101T060100Z
UID:3321e954-1974-4a8a-a93a-ddd6e857bb2a
CREATED:20260425T164932Z
DESCRIPTION:Nonstop New Years: Analog Soul\, Aurora Halal\, Avalon Emerson
 \, Conducta\, Hotwaxx Hale + more
LOCATION:nowadays (56-06 cooper ave\, ridgewood)
END:VEVENT
END:VCALENDAR
