BEGIN:VCALENDAR
BEGIN:VEVENT
SUMMARY:Weinberg Residency: Conical Intersect\, J. Gordon Faylor\, & more 
 [nycnoise]
DTSTART:20251218T003000Z
DTEND:20251218T013000Z
UID:efd11c47-c947-4134-a21f-d1f8e6d79a95
CREATED:20260425T183930Z
DESCRIPTION:full info asap
LOCATION:sisters (900 fulton st.\, brooklyn)
END:VEVENT
END:VCALENDAR
