BEGIN:VCALENDAR
BEGIN:VEVENT
SUMMARY:Evening Tea: iiisa (isabel crespo pardo)\, HxH (Lester St. Louis &
  Chris Williams) [nycnoise]
DTSTART:20251207T000000Z
DTEND:20251207T010000Z
UID:c45e6fe5-ba4a-4ffc-bf3d-b08beb65d0d1
CREATED:20260425T184014Z
DESCRIPTION:
LOCATION:silence please (132 Bowery Floor 2\, New York\, NY 10013)
END:VEVENT
END:VCALENDAR
