BEGIN:VCALENDAR
BEGIN:VEVENT
SUMMARY:Hexmas Celebration: Behor\, 12090 A.D.\, Winkie\, Silent Mass\, & 
 more [nycnoise]
DTSTART:20251218T003000Z
DTEND:20251218T013000Z
UID:fdfed971-6045-4e84-b719-b7b4084215bb
CREATED:20260425T184030Z
DESCRIPTION:
LOCATION:rubulad
END:VEVENT
END:VCALENDAR
