BEGIN:VCALENDAR
BEGIN:VEVENT
SUMMARY:Yarn/Wire plays works by Sarah Hennies & Jordan Dykstra [nycnoise]
DTSTART:20260227T000000Z
DTEND:20260227T010000Z
UID:93f4cb69-7974-40e4-aa4f-361efb96195f
CREATED:20260425T144940Z
DESCRIPTION:
LOCATION:troutman studio (17-17 Troutman St\, Ridgewood\, NY 11385)
END:VEVENT
END:VCALENDAR
