BEGIN:VCALENDAR
BEGIN:VEVENT
SUMMARY:Editrix\, Erica Dawn Lyle\, Sensor Ghost\, Sally Gates & Matt Holl
 enberg [nycnoise]
DTSTART:20251207T020000Z
DTEND:20251207T030000Z
UID:417f365f-0fea-475f-8c0f-4027cd4437ad
CREATED:20260425T184012Z
DESCRIPTION:8:30pm doors
LOCATION:francis kite club (40 loisaida ave\, manhattan)
END:VEVENT
END:VCALENDAR
