BEGIN:VCALENDAR
BEGIN:VEVENT
SUMMARY:Jay Defeo Exhibition Performance: Zeena Parkins & William Winant [
 nycnoise]
DTSTART:20251211T230000Z
DTEND:20251212T000000Z
UID:85b6c66c-d7c9-4c56-961b-abcfdb059fc7
CREATED:20260425T184032Z
DESCRIPTION:
LOCATION:paula cooper gallery (521 w. 21st st.\, manhattan)
END:VEVENT
END:VCALENDAR
