BEGIN:VCALENDAR
BEGIN:VEVENT
SUMMARY:Yoko Murakami: '(Tipping) Point' (ft. ÉMU\, Apollo Bual\, Maki Ki
 tahara) [nycnoise]
DTSTART:20251214T000000Z
DTEND:20251214T010000Z
UID:1b95ab58-2e48-4ef4-b98d-5ba211b226e1
CREATED:20260425T183806Z
DESCRIPTION:&Eacute\;MU: Maria Takeuchi\; "you are encouraged to wear your
  favorite hats or headpiece"
LOCATION:theaterlab (357 w. 36th st. 3rd fl.\, manhattan)
END:VEVENT
END:VCALENDAR
