BEGIN:VCALENDAR
BEGIN:VEVENT
SUMMARY:Brandon Seabrook Utility Modern (w/ Bill Frisell\, Rashaan Carter\
 , Marcus Gilmore) [nycnoise]
DTSTART:20251214T020000Z
DTEND:20251214T030000Z
UID:019039d8-60f0-46b9-b2bf-a01d50ad6fb5
CREATED:20260425T184031Z
DESCRIPTION:
LOCATION:lunàtico (486 halsey st.\, brooklyn)
END:VEVENT
END:VCALENDAR
