BEGIN:VCALENDAR
BEGIN:VEVENT
SUMMARY:Spencer Zahn Quartet (ft. Alfredo Colón\, Mauro Refosco\, Kirk Sc
 hoenherr) [nycnoise]
DTSTART:20251231T020000Z
DTEND:20251231T030000Z
UID:8c7d477d-8800-4817-a19b-ecda307d17ed
CREATED:20260425T184031Z
DESCRIPTION:
LOCATION:lunàtico (486 halsey st.\, brooklyn)
END:VEVENT
END:VCALENDAR
