BEGIN:VCALENDAR
BEGIN:VEVENT
SUMMARY:$60 NYE [nycnoise]
DTSTART:20260101T023000Z
DTEND:20260101T033000Z
UID:8f6cb57c-e90e-42c0-9250-bfa0df73ebf3
CREATED:20260425T184032Z
DESCRIPTION:Fred Thomas w/ Gabriel Caplan\, Dominic James\, Ramsey Jones\,
  Tyrone Cox\, Geoff Burke
LOCATION:lunàtico (486 halsey st.\, brooklyn)
END:VEVENT
END:VCALENDAR
