BEGIN:VCALENDAR
BEGIN:VEVENT
SUMMARY:Marcia Bassett & Victoria Keddie\, White Hot Priests (Rachelle Rah
 mé + Abe Edelman)\, Cecilia Lopez [nycnoise]
DTSTART:20251221T000000Z
DTEND:20251221T010000Z
UID:dbfdf878-7933-4127-8fea-5a27aa4ad511
CREATED:20260425T184015Z
DESCRIPTION:all donations to artists
LOCATION:sunview acropolis (257 Nassau Ave\, Brooklyn\, NY 11222)
END:VEVENT
END:VCALENDAR
