BEGIN:VCALENDAR
BEGIN:VEVENT
SUMMARY:Centennial Gardens & more? [nycnoise]
DTSTART:20251212T220000Z
DTEND:20251212T230000Z
UID:8536e2d0-db4d-4050-a30f-efc60b01992f
CREATED:20260425T183939Z
DESCRIPTION:info asap
LOCATION:<p><strong>tba</strong></p>
END:VEVENT
END:VCALENDAR
