BEGIN:VCALENDAR
BEGIN:VEVENT
SUMMARY:Debbie Dopamine\, Schmave\, Roacher [nycnoise]
DTSTART:20251211T010000Z
DTEND:20251211T020000Z
UID:f7893a0e-e294-4499-aacc-603b1478e6dc
CREATED:20260425T183727Z
DESCRIPTION:7pm doors
LOCATION:broadway (1272 broadway\, brooklyn)
END:VEVENT
END:VCALENDAR
