BEGIN:VCALENDAR
BEGIN:VEVENT
SUMMARY:LORE: Hansel/Gretel Reloaded: Delilah Friedler & Hunter Petree\, D
 J TBD\, DeJota\, MTHR TRSA\, Sweetheart Powder\, Star Mitchell [nycnoise]
DTSTART:20251214T000000Z
DTEND:20251214T010000Z
UID:9ad25a3a-a96e-4462-bb1a-7a32c25b7f56
CREATED:20260425T184107Z
DESCRIPTION:"fairytale rave telling the story of Hansel &amp\; Gretel with
  live narration\, techno\, custom visuals\, &amp\; pop-up performance"
LOCATION:hex house
END:VEVENT
END:VCALENDAR
