BEGIN:VCALENDAR
BEGIN:VEVENT
SUMMARY:3rd Space presents Livecoded VFX at the Altar: LEYA\, Colle\, Deer
  Park\, Patch+ [nycnoise]
DTSTART:20251206T230000Z
DTEND:20251207T000000Z
UID:170cf904-c694-49b4-9355-1f15a90f6bd8
CREATED:20260425T183831Z
DESCRIPTION:
LOCATION:christ & st. stephen's church (120 W 69th St\, New York\, NY 1002
 3)
END:VEVENT
END:VCALENDAR
