BEGIN:VCALENDAR
BEGIN:VEVENT
SUMMARY:The Bird Calls\, milkymaze\, Kolb [nycnoise]
DTSTART:20251206T000000Z
DTEND:20251206T010000Z
UID:70e61653-9460-44c8-9ee1-11c2e59f90b2
CREATED:20260425T183831Z
DESCRIPTION:
LOCATION:alphaville (140 wilson ave\, brooklyn)
END:VEVENT
END:VCALENDAR
