BEGIN:VCALENDAR
BEGIN:VEVENT
SUMMARY:M Lamar\, Irrevery\, Leathered\, Hollyo [nycnoise]
DTSTART:20251220T000000Z
DTEND:20251220T010000Z
UID:f7a76574-e353-4a3e-acc9-31d7e09173a7
CREATED:20260425T184029Z
DESCRIPTION:
LOCATION:alphaville (140 wilson ave\, brooklyn)
END:VEVENT
END:VCALENDAR
