BEGIN:VCALENDAR
BEGIN:VEVENT
SUMMARY:Tim Berne [nycnoise]
DTSTART:20251210T020000Z
DTEND:20251210T030000Z
UID:77bf9351-10ec-49ac-9508-391b3d65d5d1
CREATED:20260425T184014Z
DESCRIPTION:full lineup asap
LOCATION:lowlands (543 3rd ave\, brooklyn)
END:VEVENT
END:VCALENDAR
