BEGIN:VCALENDAR
BEGIN:VEVENT
SUMMARY:Experimental Intermedia presents A solo\; a solo and a half\; a du
 o [Denum]: Al Margolis w/ Tom Law [nycnoise]
DTSTART:20251211T010000Z
DTEND:20251211T020000Z
UID:39b0ce49-3116-4ae9-8242-e7d64be75593
CREATED:20260425T184106Z
DESCRIPTION:"AM will play a solo set for stringed instrument\, contact mic
 (s)\, objects/junk\, etc\; TL will live sample/transform a[n] AM tape piec
 e ... live video participation by Katherine Liberovskaya"
LOCATION:various / artists (19 Essex St\, New York\, NY 10002)
END:VEVENT
END:VCALENDAR
