BEGIN:VCALENDAR
BEGIN:VEVENT
SUMMARY:Experimental Intermedia presents: Ras Burnett (w/ Tor Snyder\, Dav
 e Ross) [nycnoise]
DTSTART:20251213T010000Z
DTEND:20251213T020000Z
UID:90334969-a047-4946-808c-ae8c6600361b
CREATED:20260425T183930Z
DESCRIPTION:
LOCATION:various / artists (19 Essex St\, New York\, NY 10002)
END:VEVENT
END:VCALENDAR
