BEGIN:VCALENDAR
BEGIN:VEVENT
SUMMARY:Experimental Intermedia presents: Mariana Carvalho [nycnoise]
DTSTART:20251217T000000Z
DTEND:20251217T010000Z
UID:592f2270-b718-4b32-8553-8b9a05bf4ceb
CREATED:20260425T184105Z
DESCRIPTION:"two pieces for an amplified head\, transducers &amp\; a tiny 
 speaker in the mouth"
LOCATION:harvestworks (596 Broadway #602\, New York\, NY 10012)
END:VEVENT
END:VCALENDAR
