BEGIN:VCALENDAR
BEGIN:VEVENT
SUMMARY:Disco Portal: maiiii\, LIONESSA\, PUFF\, Suciopath [nycnoise]
DTSTART:20251209T030000Z
DTEND:20251209T040000Z
UID:d640860f-7204-443b-a546-2f4f428d4810
CREATED:20260425T183831Z
DESCRIPTION:
LOCATION:bossa nova civic club (1271 myrtle ave\, brooklyn)
END:VEVENT
END:VCALENDAR
