BEGIN:VCALENDAR
BEGIN:VEVENT
SUMMARY:They Are Gutting A Body Of Water & more [nycnoise]
DTSTART:20251215T010000Z
DTEND:20251215T020000Z
UID:8d6b4806-8d57-4d5c-8c4e-696fc3e83126
CREATED:20260425T183830Z
DESCRIPTION:7pm doors
LOCATION:market hotel (1140 myrtle ave\, brooklyn)
END:VEVENT
END:VCALENDAR
