BEGIN:VCALENDAR
BEGIN:VEVENT
SUMMARY:oomfcon: Maya Margarita\, Xana 101\, camgirll8\, Sevyn Love\, NEPT
 UNEWAVEY [nycnoise]
DTSTART:20251213T030000Z
DTEND:20251213T040000Z
UID:e21695a5-456e-49fe-a381-0c97fea31c4e
CREATED:20260425T183930Z
DESCRIPTION:
LOCATION:mood ring (1260 myrtle ave\, brooklyn)
END:VEVENT
END:VCALENDAR
