BEGIN:VCALENDAR
BEGIN:VEVENT
SUMMARY:VJOLTRON Experimental A/V: Vivizection\, Janie Jaffe\, Derick Noet
 zel [nycnoise]
DTSTART:20251209T010000Z
DTEND:20251209T020000Z
UID:31f5a7f5-b43c-4300-ac35-2c19144568c3
CREATED:20260425T184114Z
DESCRIPTION:
LOCATION:millennium film workshop (167 Wilson Ave\, Brooklyn\, NY 11237)
END:VEVENT
END:VCALENDAR
