BEGIN:VCALENDAR
BEGIN:VEVENT
SUMMARY:Pass The Aux: Tim O’Keefe & Robin Wong [nycnoise]
DTSTART:20251220T010000Z
DTEND:20251220T020000Z
UID:14aa3294-4d27-40ac-ba71-3c5d40ba7ad5
CREATED:20260425T184031Z
DESCRIPTION:"collaborative audio &amp\; visual creation"
LOCATION:brooklyn brewery (79 N 11th St\, Brooklyn\, NY 11249)
END:VEVENT
END:VCALENDAR
