BEGIN:VCALENDAR
BEGIN:VEVENT
SUMMARY:Imal Gnawa (Album Release)\, Nuke Watch\, Masaaki [nycnoise]
DTSTART:20260111T000000Z
DTEND:20260111T010000Z
UID:ccf1f5b8-d162-43a9-89fb-f9211cb14f7c
CREATED:20260425T164845Z
DESCRIPTION:
LOCATION:cassette (68-38 forest ave bsmt\, ridgewood)
END:VEVENT
END:VCALENDAR
