BEGIN:VCALENDAR
BEGIN:VEVENT
SUMMARY:Centennial Gardens & more? [nycnoise]
DTSTART:20260103T010000Z
DTEND:20260103T020000Z
UID:9e07986b-90ab-4eb8-ae97-eea72db024ed
CREATED:20260425T164808Z
DESCRIPTION:
LOCATION:<p><strong>tba</strong></p>
END:VEVENT
END:VCALENDAR
