BEGIN:VCALENDAR
BEGIN:VEVENT
SUMMARY:Corporeal\, Night #2/2: Music by inti figgis-vizueta\, Gabriella S
 mith\, Zosha di Castri\, Reena Esmail\, Viet Cuong\, John Zorn\, Yaz Lanca
 ster [nycnoise]
DTSTART:20251213T000000Z
DTEND:20251213T010000Z
UID:33311db8-9021-406a-ac07-77a375ec065d
CREATED:20260425T183936Z
DESCRIPTION:performers: Graeme Steele Johnson\, Giancarlo Latta\, Aaron Wo
 lff\, Fifi Zhang + dancers Marisa Clementi\, ALEXA GR&AElig\;\, Leah Wilks
LOCATION:cuny aaron davis hall (129 Convent Ave\, New York\, NY 10027)
END:VEVENT
END:VCALENDAR
