BEGIN:VCALENDAR
BEGIN:VEVENT
SUMMARY:Corporeal\, Night #1/2: Music by inti figgis-vizueta\, Gabriella S
 mith\, Zosha di Castri\, Reena Esmail\, Viet Cuong\, John Zorn\, Yaz Lanca
 ster [nycnoise]
DTSTART:20251212T000000Z
DTEND:20251212T010000Z
UID:9f23dbb7-d192-434e-b0e7-24b0535500d8
CREATED:20260425T183931Z
DESCRIPTION:performers: Graeme Steele Johnson\, Giancarlo Latta\, Aaron Wo
 lff\, Fifi Zhang + dancers Marisa Clementi\, ALEXA GR&AElig\;\, Leah Wilks
LOCATION:cuny aaron davis hall (129 Convent Ave\, New York\, NY 10027)
END:VEVENT
END:VCALENDAR
