BEGIN:VCALENDAR
BEGIN:VEVENT
SUMMARY:Gobby: 'Shadows of a Man\,' Performance Day #3/3 [nycnoise]
DTSTART:20251214T200000Z
DTEND:20251214T210000Z
UID:c7208b25-2538-46a5-b963-d7149fed060d
CREATED:20260425T183938Z
DESCRIPTION:installation on view&nbsp\;12/3-12/12\, 10am-6pm
LOCATION:blank forms (3d) (468 grand ave #3d\, brooklyn)
END:VEVENT
END:VCALENDAR
