BEGIN:VCALENDAR
BEGIN:VEVENT
SUMMARY:Big Daddy in the Sky\, NY Grim\, Fly Ashtray [nycnoise]
DTSTART:20251223T000000Z
DTEND:20251223T010000Z
UID:cebd2c96-46ca-4dda-b1ab-fcb8718535ca
CREATED:20260425T183938Z
DESCRIPTION:
LOCATION:bowery electric (327 bowery\, manhattan)
END:VEVENT
END:VCALENDAR
