BEGIN:VCALENDAR
BEGIN:VEVENT
SUMMARY:Heavy Florals x Dada Strain Holiday Mixer & Coat Drive: Nappy Nina
 \, Laura Cocks / Rafiq Bhatia / Shara Lunon / Tim Angulo\, Dada Strain (DJ
 ) [nycnoise]
DTSTART:20251216T010000Z
DTEND:20251216T020000Z
UID:766b15b7-cfa9-4de2-8fba-4a860acc8c10
CREATED:20260425T184014Z
DESCRIPTION:Heavy Florals curated by Shara Lunon\, Dada Strain is Piotr Or
 lov
LOCATION:sisters (900 fulton st.\, brooklyn)
END:VEVENT
END:VCALENDAR
