BEGIN:VCALENDAR
BEGIN:VEVENT
SUMMARY:Nice Try\, Kid! #25: Teddy Kumpel\, Hunki Dori [nycnoise]
DTSTART:20251230T010000Z
DTEND:20251230T020000Z
UID:dd7335b1-e2d1-453d-8643-095c1ad43cc4
CREATED:20260425T184015Z
DESCRIPTION:
LOCATION:troost (1011 manhattan ave\, brooklyn)
END:VEVENT
END:VCALENDAR
