BEGIN:VCALENDAR
BEGIN:VEVENT
SUMMARY:Arts For Art Inter(Space)\, Mittal Thurs #1/4: Alfredo Colón Quar
 tet\, Aakash Mittal’s Awaz [nycnoise]
DTSTART:20260116T003000Z
DTEND:20260116T013000Z
UID:ffc8025d-d6ad-4529-986a-6fe21d817fda
CREATED:20260425T165302Z
DESCRIPTION:AC4 w/ Rahul\, Steve Williams\, Oscar Evely\; AMA w/ Shurmi Dh
 ar\, Georgia Wartel Collins\, Warren Trae Crudup III
LOCATION:nublu classic (62 Loisaida Ave\, New York\, NY 10009)
END:VEVENT
END:VCALENDAR
