BEGIN:VCALENDAR
BEGIN:VEVENT
SUMMARY:Arts For Art Inter(Space)\, Crudup Weds #4/4: Melissa Almaguer\, T
 rae Crudup n’Good Company [nycnoise]
DTSTART:20260205T003000Z
DTEND:20260205T013000Z
UID:7db4a877-8ab3-45b2-b83a-ee658b837ff4
CREATED:20260425T144939Z
DESCRIPTION:TC w/ Shara Lunon\, Ann Sylvia Clark\, Jordyn Davis
LOCATION:nublu classic (62 Loisaida Ave\, New York\, NY 10009)
END:VEVENT
END:VCALENDAR
