BEGIN:VCALENDAR
BEGIN:VEVENT
SUMMARY:Arts For Art Inter(Space)\, Crudup Weds #1/4: Diego Hedez & Franci
 sco Mela\, Trae Crudup n’Good Company (w/ Shara Lunon\, Ann Sylvia Clark
 \, Jordyn Davis) [nycnoise]
DTSTART:20260115T003000Z
DTEND:20260115T013000Z
UID:142ce15c-fa2b-4b0c-bb45-244778b37299
CREATED:20260425T164848Z
DESCRIPTION:
LOCATION:nublu classic (62 Loisaida Ave\, New York\, NY 10009)
END:VEVENT
END:VCALENDAR
