BEGIN:VCALENDAR
BEGIN:VEVENT
SUMMARY:Arts For Art Inter(Space)\, Mittal Thurs #2/4: Nava Dunkelman & Ch
 uck Bettis\, Aakash Mittal’s Awaz [nycnoise]
DTSTART:20260123T003000Z
DTEND:20260123T013000Z
UID:f93a7815-f50a-44a0-906d-c87329f03557
CREATED:20260425T164845Z
DESCRIPTION:AMA w/ Shurmi Dhar\, Georgia Wartel Collins\, Trae Crudup
LOCATION:nublu classic (62 Loisaida Ave\, New York\, NY 10009)
END:VEVENT
END:VCALENDAR
