BEGIN:VCALENDAR
BEGIN:VEVENT
SUMMARY:Arts For Art Inter(Space)\, Mittal Thurs #3/4: Eli Berman & Bonita
  Oliver\, Aakash Mittal’s Awaz [nycnoise]
DTSTART:20260130T003000Z
DTEND:20260130T013000Z
UID:3a946451-e3f4-4841-a514-7bfe49c007bd
CREATED:20260425T165141Z
DESCRIPTION:AMA w/ Shurmi Dhar\, Georgia Wartel Collins\, Trae Crudup
LOCATION:nublu classic (62 Loisaida Ave\, New York\, NY 10009)
END:VEVENT
END:VCALENDAR
