BEGIN:VCALENDAR
BEGIN:VEVENT
SUMMARY:Gilah\, Receive\, Ded En [nycnoise]
DTSTART:20251219T003000Z
DTEND:20251219T013000Z
UID:1b88afe8-47bf-4bf5-949c-420864cb51db
CREATED:20260425T183727Z
DESCRIPTION:7pm doors
LOCATION:sleepwalk (251 bushwick ave\, brooklyn)
END:VEVENT
END:VCALENDAR
